BEGIN:VCALENDAR
VERSION:2.0
CALSCALE:GREGORIAN
METHOD:PUBLISH
X-WR-TIMEZONE:Australia/Sydney
BEGIN:VTIMEZONE
TZID:Australia/Sydney
BEGIN:STANDARD
TZNAME:AEST
END:STANDARD
END:VTIMEZONE
BEGIN:VEVENT
DTSTART;TZID=Australia/Sydney:20210214T090000
DTEND;TZID=Australia/Sydney:20210214T160000
DTSTAMP:20210301T120921
UID:201
SUMMARY:Bunnings BBQ Fundraiser
DESCRIPTION:




The Parents &amp;amp; Friends Association would like to invite you to support our school and purchase a sausage from Box Hill Bunnings, Station St during our BBQ Fundraiser on Sunday 14th February.&amp;nbsp;If you would like to assist on the day, please advise the school office. We would love your assistance!


SEQUENCE:0
STATUS:CONFIRMED
TRANSP:OPAQUE
END:VEVENT
END:VCALENDAR