BEGIN:VCALENDAR
VERSION:2.0
CALSCALE:GREGORIAN
METHOD:PUBLISH
X-WR-TIMEZONE:Australia/Sydney
BEGIN:VTIMEZONE
TZID:Australia/Sydney
BEGIN:STANDARD
TZNAME:AEST
END:STANDARD
END:VTIMEZONE
BEGIN:VEVENT
DTSTART;TZID=Australia/Sydney:20260306T091500
DTEND;TZID=Australia/Sydney:20260306T094500
RRULE:FREQ=WEEKLY;UNTIL=20260306T094500;BYDAY=TH
DTSTAMP:20260421T193246
UID:1663
SUMMARY:9.15 am - Assembly
DESCRIPTION:







SEQUENCE:0
STATUS:CONFIRMED
TRANSP:OPAQUE
END:VEVENT
END:VCALENDAR